BEGIN:VCALENDAR
VERSION:2.0
PRODID:-//Edlio Inc//Edlio Calendar//EN
CALSCALE:GREGORIAN
METHOD:PUBLISH
X-WR-CALNAME:Lakeview School - School Calendar
X-ORIGINAL-URL:https://lakeview.hcss.org
X-WR-CALDESC:Events calendar for lakeview.hcss.org
X-WR-TIMEZONE:US/Central
REFRESH-INTERVAL;VALUE=DURATION:PT1H
X-Robots-Tag:noindex
X-PUBLISHED-TTL:PT1H
BEGIN:VTIMEZONE
TZID:US/Central
BEGIN:STANDARD
TZOFFSETFROM:-0500
TZOFFSETTO:-0600
DTSTART:20071104T020000
RRULE:FREQ=YEARLY;BYMONTH=11;BYDAY=1SU
END:STANDARD
BEGIN:DAYLIGHT
TZOFFSETFROM:-0600
TZOFFSETTO:-0500
DTSTART:20070311T020000
RRULE:FREQ=YEARLY;BYMONTH=3;BYDAY=2SU
END:DAYLIGHT
END:VTIMEZONE
BEGIN:VTIMEZONE
TZID:US/East-Indiana
BEGIN:STANDARD
TZOFFSETFROM:-0500
TZOFFSETTO:-0500
DTSTART:19701025T020000
END:STANDARD
END:VTIMEZONE
BEGIN:VTIMEZONE
TZID:US/Eastern
BEGIN:STANDARD
TZOFFSETFROM:-0400
TZOFFSETTO:-0500
DTSTART:19701025T020000
RRULE:FREQ=YEARLY;BYMONTH=10;BYDAY=-1SU;UNTIL=20070311T020000
END:STANDARD
BEGIN:STANDARD
TZOFFSETFROM:-0400
TZOFFSETTO:-0500
DTSTART:20071104T020000
RRULE:FREQ=YEARLY;BYMONTH=11;BYDAY=1SU
END:STANDARD
BEGIN:DAYLIGHT
TZOFFSETFROM:-0500
TZOFFSETTO:-0400
DTSTART:19870405T020000
RRULE:FREQ=YEARLY;BYMONTH=4;BYDAY=1SU;UNTIL=20061029T020000
END:DAYLIGHT
BEGIN:DAYLIGHT
TZOFFSETFROM:-0500
TZOFFSETTO:-0400
DTSTART:20070311T020000
RRULE:FREQ=YEARLY;BYMONTH=3;BYDAY=2SU
END:DAYLIGHT
END:VTIMEZONE
BEGIN:VTIMEZONE
TZID:US/Michigan
BEGIN:STANDARD
TZOFFSETFROM:-0400
TZOFFSETTO:-0500
DTSTART:19701025T020000
RRULE:FREQ=YEARLY;BYMONTH=10;BYDAY=-1SU;UNTIL=20070311T020000
END:STANDARD
BEGIN:STANDARD
TZOFFSETFROM:-0400
TZOFFSETTO:-0500
DTSTART:20071104T020000
RRULE:FREQ=YEARLY;BYMONTH=11;BYDAY=1SU
END:STANDARD
BEGIN:DAYLIGHT
TZOFFSETFROM:-0500
TZOFFSETTO:-0400
DTSTART:19870405T020000
RRULE:FREQ=YEARLY;BYMONTH=4;BYDAY=1SU;UNTIL=20061029T020000
END:DAYLIGHT
BEGIN:DAYLIGHT
TZOFFSETFROM:-0500
TZOFFSETTO:-0400
DTSTART:20070311T020000
RRULE:FREQ=YEARLY;BYMONTH=3;BYDAY=2SU
END:DAYLIGHT
END:VTIMEZONE
BEGIN:VTIMEZONE
TZID:US/Central
BEGIN:STANDARD
TZOFFSETFROM:-0500
TZOFFSETTO:-0600
DTSTART:19701025T020000
RRULE:FREQ=YEARLY;BYMONTH=10;BYDAY=-1SU;UNTIL=20070311T020000
END:STANDARD
BEGIN:STANDARD
TZOFFSETFROM:-0500
TZOFFSETTO:-0600
DTSTART:20071104T020000
RRULE:FREQ=YEARLY;BYMONTH=11;BYDAY=1SU
END:STANDARD
BEGIN:DAYLIGHT
TZOFFSETFROM:-0600
TZOFFSETTO:-0500
DTSTART:19870405T020000
RRULE:FREQ=YEARLY;BYMONTH=4;BYDAY=1SU;UNTIL=20061029T020000
END:DAYLIGHT
BEGIN:DAYLIGHT
TZOFFSETFROM:-0600
TZOFFSETTO:-0500
DTSTART:20070311T020000
RRULE:FREQ=YEARLY;BYMONTH=3;BYDAY=2SU
END:DAYLIGHT
END:VTIMEZONE
BEGIN:VTIMEZONE
TZID:US/Mountain
BEGIN:STANDARD
TZOFFSETFROM:-0600
TZOFFSETTO:-0700
DTSTART:19701025T020000
RRULE:FREQ=YEARLY;BYMONTH=10;BYDAY=-1SU;UNTIL=20070311T020000
END:STANDARD
BEGIN:STANDARD
TZOFFSETFROM:-0600
TZOFFSETTO:-0700
DTSTART:20071104T020000
RRULE:FREQ=YEARLY;BYMONTH=11;BYDAY=1SU
END:STANDARD
BEGIN:DAYLIGHT
TZOFFSETFROM:-0700
TZOFFSETTO:-0600
DTSTART:19870405T020000
RRULE:FREQ=YEARLY;BYMONTH=4;BYDAY=1SU;UNTIL=20061029T020000
END:DAYLIGHT
BEGIN:DAYLIGHT
TZOFFSETFROM:-0700
TZOFFSETTO:-0600
DTSTART:20070311T020000
RRULE:FREQ=YEARLY;BYMONTH=3;BYDAY=2SU
END:DAYLIGHT
END:VTIMEZONE
BEGIN:VTIMEZONE
TZID:US/Arizona
BEGIN:STANDARD
TZOFFSETFROM:-0700
TZOFFSETTO:-0700
DTSTART:19701025T020000
END:STANDARD
END:VTIMEZONE
BEGIN:VTIMEZONE
TZID:US/Pacific
BEGIN:STANDARD
TZOFFSETFROM:-0700
TZOFFSETTO:-0800
DTSTART:19701025T020000
RRULE:FREQ=YEARLY;BYMONTH=10;BYDAY=-1SU;UNTIL=20070311T020000
END:STANDARD
BEGIN:STANDARD
TZOFFSETFROM:-0700
TZOFFSETTO:-0800
DTSTART:20071104T020000
RRULE:FREQ=YEARLY;BYMONTH=11;BYDAY=1SU
END:STANDARD
BEGIN:DAYLIGHT
TZOFFSETFROM:-0800
TZOFFSETTO:-0700
DTSTART:19870405T020000
RRULE:FREQ=YEARLY;BYMONTH=4;BYDAY=1SU;UNTIL=20061029T020000
END:DAYLIGHT
BEGIN:DAYLIGHT
TZOFFSETFROM:-0800
TZOFFSETTO:-0700
DTSTART:20070311T020000
RRULE:FREQ=YEARLY;BYMONTH=3;BYDAY=2SU
END:DAYLIGHT
END:VTIMEZONE
BEGIN:VTIMEZONE
TZID:US/Alaska
BEGIN:STANDARD
TZOFFSETFROM:-0800
TZOFFSETTO:-0900
DTSTART:19701025T020000
RRULE:FREQ=YEARLY;BYMONTH=10;BYDAY=-1SU;UNTIL=20070311T020000
END:STANDARD
BEGIN:STANDARD
TZOFFSETFROM:-0800
TZOFFSETTO:-0900
DTSTART:20071104T020000
RRULE:FREQ=YEARLY;BYMONTH=11;BYDAY=1SU
END:STANDARD
BEGIN:DAYLIGHT
TZOFFSETFROM:-0900
TZOFFSETTO:-0800
DTSTART:19870405T020000
RRULE:FREQ=YEARLY;BYMONTH=4;BYDAY=1SU;UNTIL=20061029T020000
END:DAYLIGHT
BEGIN:DAYLIGHT
TZOFFSETFROM:-0900
TZOFFSETTO:-0800
DTSTART:20070311T020000
RRULE:FREQ=YEARLY;BYMONTH=3;BYDAY=2SU
END:DAYLIGHT
END:VTIMEZONE
BEGIN:VTIMEZONE
TZID:US/Hawaii
BEGIN:STANDARD
TZOFFSETFROM:-1000
TZOFFSETTO:-1000
DTSTART:19701025T020000
END:STANDARD
END:VTIMEZONE
BEGIN:VTIMEZONE
TZID:US/Aleutian
BEGIN:STANDARD
TZOFFSETFROM:-1000
TZOFFSETTO:-1000
DTSTART:19701025T020000
END:STANDARD
END:VTIMEZONE
BEGIN:VTIMEZONE
TZID:US/Samoa
BEGIN:STANDARD
TZOFFSETFROM:-1100
TZOFFSETTO:-1100
DTSTART:19701025T020000
END:STANDARD
END:VTIMEZONE
BEGIN:VEVENT
UID:35433218@lakeview.hcss.org#20251027
SEQUENCE:4
CREATED:20251027T162514Z
LAST-MODIFIED:20251027T162514Z
DTSTART;VALUE=DATE:20251027
DURATION:P1D
SUMMARY: Drugs are Tacky - Mixed Match Clothes
CATEGORIES:School Calendar
DESCRIPTION:Drugs are Tacky <br>Wear Mismatched Clothes\n<a href=' https://
 lakeview.hcss.org/apps/events/35433218/'>Read more</a>
URL:https://lakeview.hcss.org/apps/events/35433218/
ORGANIZER;CN="Edlio Calendar":MAILTO:noreply@lakeview.hcss.org
DTSTAMP:20260421T144823Z
END:VEVENT
BEGIN:VEVENT
UID:35433239@lakeview.hcss.org#20251028
SEQUENCE:2
CREATED:20251027T162403Z
LAST-MODIFIED:20251027T162403Z
DTSTART;VALUE=DATE:20251028
DURATION:P1D
SUMMARY: Put a Cap on Drugs - Hat Day
CATEGORIES:School Calendar
URL:https://lakeview.hcss.org/apps/events/35433239/
ORGANIZER;CN="Edlio Calendar":MAILTO:noreply@lakeview.hcss.org
DTSTAMP:20260421T144823Z
END:VEVENT
BEGIN:VEVENT
UID:35849071@lakeview.hcss.org#20260105
SEQUENCE:0
CREATED:20260109T182818Z
LAST-MODIFIED:20260109T182818Z
DTSTART;VALUE=DATE:20260105
DURATION:P1D
SUMMARY:Back To School 
CATEGORIES:School Calendar
URL:https://lakeview.hcss.org/apps/events/35849071/
ORGANIZER;CN="Edlio Calendar":MAILTO:noreply@lakeview.hcss.org
DTSTAMP:20260421T144823Z
END:VEVENT
BEGIN:VEVENT
UID:36065175@lakeview.hcss.org#20260303
SEQUENCE:1
CREATED:20260224T210949Z
LAST-MODIFIED:20260224T210949Z
DTSTART;VALUE=DATE:20260303
DURATION:P1D
SUMMARY:Dr. Seuss-  Hat Day
CATEGORIES:School Calendar
URL:https://lakeview.hcss.org/apps/events/36065175/
ORGANIZER;CN="Edlio Calendar":MAILTO:noreply@lakeview.hcss.org
DTSTAMP:20260421T144823Z
END:VEVENT
BEGIN:VEVENT
UID:36065163@lakeview.hcss.org#20260302
SEQUENCE:2
CREATED:20260224T210929Z
LAST-MODIFIED:20260224T210929Z
DTSTART;VALUE=DATE:20260302
DURATION:P1D
SUMMARY:Dr. Seuss-  Pajama Day
CATEGORIES:School Calendar
URL:https://lakeview.hcss.org/apps/events/36065163/
ORGANIZER;CN="Edlio Calendar":MAILTO:noreply@lakeview.hcss.org
DTSTAMP:20260421T144823Z
END:VEVENT
BEGIN:VEVENT
UID:36065187@lakeview.hcss.org#20260306
SEQUENCE:0
CREATED:20260224T211201Z
LAST-MODIFIED:20260224T211201Z
DTSTART;VALUE=DATE:20260306
DURATION:P1D
SUMMARY:Dr. Seuss- Color Day
CATEGORIES:School Calendar
URL:https://lakeview.hcss.org/apps/events/36065187/
ORGANIZER;CN="Edlio Calendar":MAILTO:noreply@lakeview.hcss.org
DTSTAMP:20260421T144823Z
END:VEVENT
BEGIN:VEVENT
UID:36065184@lakeview.hcss.org#20260305
SEQUENCE:0
CREATED:20260224T211128Z
LAST-MODIFIED:20260224T211128Z
DTSTART;VALUE=DATE:20260305
DURATION:P1D
SUMMARY:Dr. Seuss- Silly Socks Day
CATEGORIES:School Calendar
URL:https://lakeview.hcss.org/apps/events/36065184/
ORGANIZER;CN="Edlio Calendar":MAILTO:noreply@lakeview.hcss.org
DTSTAMP:20260421T144823Z
END:VEVENT
BEGIN:VEVENT
UID:36065179@lakeview.hcss.org#20260304
SEQUENCE:0
CREATED:20260224T211031Z
LAST-MODIFIED:20260224T211031Z
DTSTART;VALUE=DATE:20260304
DURATION:P1D
SUMMARY:Dr. Seuss- Stripes Day
CATEGORIES:School Calendar
URL:https://lakeview.hcss.org/apps/events/36065179/
ORGANIZER;CN="Edlio Calendar":MAILTO:noreply@lakeview.hcss.org
DTSTAMP:20260421T144823Z
END:VEVENT
BEGIN:VEVENT
UID:35433251@lakeview.hcss.org#20251029
SEQUENCE:1
CREATED:20251027T162416Z
LAST-MODIFIED:20251027T162416Z
DTSTART;VALUE=DATE:20251029
DURATION:P1D
SUMMARY:Drugs Can't Find Me - Wear Camo
CATEGORIES:School Calendar
URL:https://lakeview.hcss.org/apps/events/35433251/
ORGANIZER;CN="Edlio Calendar":MAILTO:noreply@lakeview.hcss.org
DTSTAMP:20260421T144823Z
END:VEVENT
BEGIN:VEVENT
UID:28972827@lakeview.hcss.org#20250804
SEQUENCE:1
CREATED:20250702T113254Z
LAST-MODIFIED:20250702T113254Z
DTSTART;VALUE=DATE:20250804
DURATION:P1D
SUMMARY:First Day of School - Grades 1-6 Only
CATEGORIES:School Calendar
DESCRIPTION:PreK and Kindergarten will begin on a staggered schedule. Paren
 ts will receive details from the teachers.\n<a href=' https://lakeview.hcs
 s.org/apps/events/28972827/'>Read more</a>
URL:https://lakeview.hcss.org/apps/events/28972827/
ORGANIZER;CN="Edlio Calendar":MAILTO:noreply@lakeview.hcss.org
DTSTAMP:20260421T144823Z
END:VEVENT
BEGIN:VEVENT
UID:37990440@lakeview.hcss.org#20260422
SEQUENCE:1
CREATED:20260323T161146Z
LAST-MODIFIED:20260323T161146Z
DTSTART;VALUE=DATE:20260422
DURATION:P1D
SUMMARY:Grades 2-8 Testing
LOCATION:Grades 3-8 Testing
CATEGORIES:School Calendar
URL:https://lakeview.hcss.org/apps/events/37990440/
ORGANIZER;CN="Edlio Calendar":MAILTO:noreply@lakeview.hcss.org
DTSTAMP:20260421T144823Z
END:VEVENT
BEGIN:VEVENT
UID:37990441@lakeview.hcss.org#20260423
SEQUENCE:1
CREATED:20260323T161205Z
LAST-MODIFIED:20260323T161205Z
DTSTART;VALUE=DATE:20260423
DURATION:P1D
SUMMARY:Grades 2-8 Testing
CATEGORIES:School Calendar
URL:https://lakeview.hcss.org/apps/events/37990441/
ORGANIZER;CN="Edlio Calendar":MAILTO:noreply@lakeview.hcss.org
DTSTAMP:20260421T144823Z
END:VEVENT
BEGIN:VEVENT
UID:37990431@lakeview.hcss.org#20260421
SEQUENCE:1
CREATED:20260323T161128Z
LAST-MODIFIED:20260323T161128Z
DTSTART;VALUE=DATE:20260421
DURATION:P1D
SUMMARY:Grades 2-8 Testing  
CATEGORIES:School Calendar
URL:https://lakeview.hcss.org/apps/events/37990431/
ORGANIZER;CN="Edlio Calendar":MAILTO:noreply@lakeview.hcss.org
DTSTAMP:20260421T144823Z
END:VEVENT
BEGIN:VEVENT
UID:37990447@lakeview.hcss.org#20260428
SEQUENCE:0
CREATED:20260323T160610Z
LAST-MODIFIED:20260323T160610Z
DTSTART;VALUE=DATE:20260428
DURATION:P1D
SUMMARY:Grades 3-8 Testing
CATEGORIES:School Calendar
URL:https://lakeview.hcss.org/apps/events/37990447/
ORGANIZER;CN="Edlio Calendar":MAILTO:noreply@lakeview.hcss.org
DTSTAMP:20260421T144823Z
END:VEVENT
BEGIN:VEVENT
UID:37990448@lakeview.hcss.org#20260429
SEQUENCE:0
CREATED:20260323T160631Z
LAST-MODIFIED:20260323T160631Z
DTSTART;VALUE=DATE:20260429
DURATION:P1D
SUMMARY:Grades 3-8 Testing
CATEGORIES:School Calendar
URL:https://lakeview.hcss.org/apps/events/37990448/
ORGANIZER;CN="Edlio Calendar":MAILTO:noreply@lakeview.hcss.org
DTSTAMP:20260421T144823Z
END:VEVENT
BEGIN:VEVENT
UID:37990449@lakeview.hcss.org#20260430
SEQUENCE:0
CREATED:20260323T160648Z
LAST-MODIFIED:20260323T160648Z
DTSTART;VALUE=DATE:20260430
DURATION:P1D
SUMMARY:Grades 3-8 Testing
CATEGORIES:School Calendar
URL:https://lakeview.hcss.org/apps/events/37990449/
ORGANIZER;CN="Edlio Calendar":MAILTO:noreply@lakeview.hcss.org
DTSTAMP:20260421T144823Z
END:VEVENT
BEGIN:VEVENT
UID:35915416@lakeview.hcss.org#20260216
SEQUENCE:0
CREATED:20260121T143823Z
LAST-MODIFIED:20260121T143823Z
DTSTART;VALUE=DATE:20260216
DURATION:P1D
SUMMARY:No School - Presidents Day
CATEGORIES:School Calendar
URL:https://lakeview.hcss.org/apps/events/35915416/
ORGANIZER;CN="Edlio Calendar":MAILTO:noreply@lakeview.hcss.org
DTSTAMP:20260421T144823Z
END:VEVENT
BEGIN:VEVENT
UID:35849080@lakeview.hcss.org#20260119
SEQUENCE:0
CREATED:20260109T182932Z
LAST-MODIFIED:20260109T182932Z
DTSTART;VALUE=DATE:20260119
DURATION:P1D
SUMMARY:No School MLK Day
CATEGORIES:School Calendar
URL:https://lakeview.hcss.org/apps/events/35849080/
ORGANIZER;CN="Edlio Calendar":MAILTO:noreply@lakeview.hcss.org
DTSTAMP:20260421T144823Z
END:VEVENT
BEGIN:VEVENT
UID:37179297@lakeview.hcss.org#20260316
SEQUENCE:1
CREATED:20260312T121808Z
LAST-MODIFIED:20260312T121808Z
DTSTART;VALUE=DATE:20260316
DURATION:P1D
RRULE:FREQ=DAILY;COUNT=5;WKST=SU
SUMMARY:No School SPRING BREAK
CATEGORIES:School Calendar
URL:https://lakeview.hcss.org/apps/events/37179297/
ORGANIZER;CN="Edlio Calendar":MAILTO:noreply@lakeview.hcss.org
DTSTAMP:20260421T144823Z
END:VEVENT
BEGIN:VEVENT
UID:36014742@lakeview.hcss.org#20260126
SEQUENCE:0
CREATED:20260211T163924Z
LAST-MODIFIED:20260211T163924Z
DTSTART;VALUE=DATE:20260126
DURATION:P1D
RRULE:FREQ=DAILY;COUNT=15;WKST=SU
SUMMARY:No School Snow and Ice 
CATEGORIES:School Calendar
URL:https://lakeview.hcss.org/apps/events/36014742/
ORGANIZER;CN="Edlio Calendar":MAILTO:noreply@lakeview.hcss.org
DTSTAMP:20260421T144823Z
END:VEVENT
BEGIN:VEVENT
UID:35849089@lakeview.hcss.org#20260123
SEQUENCE:3
CREATED:20260121T144319Z
LAST-MODIFIED:20260121T144319Z
DTSTART;VALUE=DATE:20260123
DURATION:P1D
SUMMARY:No Students Teacher Work Day
CATEGORIES:School Calendar
URL:https://lakeview.hcss.org/apps/events/35849089/
ORGANIZER;CN="Edlio Calendar":MAILTO:noreply@lakeview.hcss.org
DTSTAMP:20260421T144823Z
END:VEVENT
BEGIN:VEVENT
UID:36014771@lakeview.hcss.org#20260218
SEQUENCE:0
CREATED:20260211T164245Z
LAST-MODIFIED:20260211T164245Z
DTSTART;VALUE=DATE:20260218
DURATION:P1D
SUMMARY:Progress Reports Go Home
CATEGORIES:School Calendar
URL:https://lakeview.hcss.org/apps/events/36014771/
ORGANIZER;CN="Edlio Calendar":MAILTO:noreply@lakeview.hcss.org
DTSTAMP:20260421T144823Z
END:VEVENT
BEGIN:VEVENT
UID:35849092@lakeview.hcss.org#20260109
SEQUENCE:0
CREATED:20260109T183055Z
LAST-MODIFIED:20260109T183055Z
DTSTART;VALUE=DATE:20260109
DURATION:P1D
SUMMARY:Report Cards Go Home
CATEGORIES:School Calendar
URL:https://lakeview.hcss.org/apps/events/35849092/
ORGANIZER;CN="Edlio Calendar":MAILTO:noreply@lakeview.hcss.org
DTSTAMP:20260421T144823Z
END:VEVENT
BEGIN:VEVENT
UID:35592311@lakeview.hcss.org#20251203
SEQUENCE:2
CREATED:20251119T184813Z
LAST-MODIFIED:20251119T184813Z
DTSTART;VALUE=DATE:20251203
DURATION:P1D
SUMMARY:SPIRIT WEEK - Dress in your favorite holiday attire.
LOCATION:Lakeview School
CATEGORIES:School Calendar
URL:https://lakeview.hcss.org/apps/events/35592311/
ORGANIZER;CN="Edlio Calendar":MAILTO:noreply@lakeview.hcss.org
DTSTAMP:20260421T144823Z
END:VEVENT
BEGIN:VEVENT
UID:35555708@lakeview.hcss.org#20251202
SEQUENCE:0
CREATED:20251113T180115Z
LAST-MODIFIED:20251113T180115Z
DTSTART;VALUE=DATE:20251202
DURATION:P1D
SUMMARY:SPIRIT WEEK - Dress like the first letter of your name. 
LOCATION:Lakeview
CATEGORIES:School Calendar
URL:https://lakeview.hcss.org/apps/events/35555708/
ORGANIZER;CN="Edlio Calendar":MAILTO:noreply@lakeview.hcss.org
DTSTAMP:20260421T144823Z
END:VEVENT
BEGIN:VEVENT
UID:35592333@lakeview.hcss.org#20251205
SEQUENCE:0
CREATED:20251119T185217Z
LAST-MODIFIED:20251119T185217Z
DTSTART;VALUE=DATE:20251205
DURATION:P1D
SUMMARY:SPIRIT WEEK - Grinch Vs. Santa
LOCATION:Lakeview School
CATEGORIES:School Calendar
URL:https://lakeview.hcss.org/apps/events/35592333/
ORGANIZER;CN="Edlio Calendar":MAILTO:noreply@lakeview.hcss.org
DTSTAMP:20260421T144823Z
END:VEVENT
BEGIN:VEVENT
UID:35592319@lakeview.hcss.org#20251204
SEQUENCE:0
CREATED:20251119T184853Z
LAST-MODIFIED:20251119T184853Z
DTSTART;VALUE=DATE:20251204
DURATION:P1D
SUMMARY:SPIRIT WEEK -Extreme Black and Gold
LOCATION:Lakeview School
CATEGORIES:School Calendar
URL:https://lakeview.hcss.org/apps/events/35592319/
ORGANIZER;CN="Edlio Calendar":MAILTO:noreply@lakeview.hcss.org
DTSTAMP:20260421T144823Z
END:VEVENT
BEGIN:VEVENT
UID:35555691@lakeview.hcss.org#20251201
SEQUENCE:0
CREATED:20251113T175541Z
LAST-MODIFIED:20251113T175541Z
DTSTART;VALUE=DATE:20251201
DURATION:P1D
SUMMARY:SPIRIT WEEK Pajama Day
LOCATION:Lakeview School
CATEGORIES:School Calendar
URL:https://lakeview.hcss.org/apps/events/35555691/
ORGANIZER;CN="Edlio Calendar":MAILTO:noreply@lakeview.hcss.org
DTSTAMP:20260421T144823Z
END:VEVENT
BEGIN:VEVENT
UID:28972834@lakeview.hcss.org#20250805
SEQUENCE:0
CREATED:20250702T112127Z
LAST-MODIFIED:20250702T112127Z
DTSTART;VALUE=DATE:20250805
DURATION:P1D
SUMMARY:School Opening - Grades 1-8
CATEGORIES:School Calendar
URL:https://lakeview.hcss.org/apps/events/28972834/
ORGANIZER;CN="Edlio Calendar":MAILTO:noreply@lakeview.hcss.org
DTSTAMP:20260421T144823Z
END:VEVENT
BEGIN:VEVENT
UID:35433259@lakeview.hcss.org#20251030
SEQUENCE:1
CREATED:20251027T162342Z
LAST-MODIFIED:20251027T162342Z
DTSTART;VALUE=DATE:20251030
DURATION:P1D
SUMMARY:Team up Against Drugs School/ Team Spirit Day! Support your favorit
 e team
CATEGORIES:School Calendar
URL:https://lakeview.hcss.org/apps/events/35433259/
ORGANIZER;CN="Edlio Calendar":MAILTO:noreply@lakeview.hcss.org
DTSTAMP:20260421T144823Z
END:VEVENT
BEGIN:VEVENT
UID:35412942@lakeview.hcss.org#20251124
SEQUENCE:0
CREATED:20251024T110159Z
LAST-MODIFIED:20251024T110159Z
DTSTART;VALUE=DATE:20251124
DTEND;TZID=US/Central:20251128T235959
SUMMARY:Thanksgiving Break (No school)
CATEGORIES:School Calendar
DESCRIPTION:<br>\n<a href=' https://lakeview.hcss.org/apps/events/35412942/
 '>Read more</a>
URL:https://lakeview.hcss.org/apps/events/35412942/
ORGANIZER;CN="Edlio Calendar":MAILTO:noreply@lakeview.hcss.org
DTSTAMP:20260421T144823Z
END:VEVENT
BEGIN:VEVENT
UID:35343964@lakeview.hcss.org#20251120
SEQUENCE:0
CREATED:20251013T181247Z
LAST-MODIFIED:20251013T181247Z
DTSTART;VALUE=DATE:20251120
DURATION:P1D
SUMMARY:Thanksgiving Meal 
LOCATION:Lakeview
CATEGORIES:School Calendar
URL:https://lakeview.hcss.org/apps/events/35343964/
ORGANIZER;CN="Edlio Calendar":MAILTO:noreply@lakeview.hcss.org
DTSTAMP:20260421T144823Z
END:VEVENT
BEGIN:VEVENT
UID:35343960@lakeview.hcss.org#20251205
SEQUENCE:1
CREATED:20251022T152727Z
LAST-MODIFIED:20251022T152727Z
DTSTART;VALUE=DATE:20251205
DURATION:P1D
SUMMARY:Winter Carnival
LOCATION:Lakeview School
CATEGORIES:School Calendar
URL:https://lakeview.hcss.org/apps/events/35343960/
ORGANIZER;CN="Edlio Calendar":MAILTO:noreply@lakeview.hcss.org
DTSTAMP:20260421T144823Z
END:VEVENT
BEGIN:VEVENT
UID:35488639@lakeview.hcss.org#20251120
SEQUENCE:0
CREATED:20251104T130304Z
LAST-MODIFIED:20251104T130304Z
DTSTART;TZID=US/Central:20251120T060000
DTEND;TZID=US/Central:20251120T090000
SUMMARY:Basketball Vs. Bruceton
LOCATION:@ Lakeview
CATEGORIES:School Calendar
URL:https://lakeview.hcss.org/apps/events/35488639/
ORGANIZER;CN="Edlio Calendar":MAILTO:noreply@lakeview.hcss.org
DTSTAMP:20260421T144823Z
END:VEVENT
BEGIN:VEVENT
UID:28972819@lakeview.hcss.org#20250708
SEQUENCE:0
CREATED:20250702T111809Z
LAST-MODIFIED:20250702T111809Z
DTSTART;TZID=US/Central:20250708T080000
DTEND;TZID=US/Central:20250708T120000
RRULE:FREQ=DAILY;UNTIL=20250710T045959Z;WKST=SU
SUMMARY:New Student Registration
LOCATION:Lakeview School
CATEGORIES:School Calendar
URL:https://lakeview.hcss.org/apps/events/28972819/
ORGANIZER;CN="Edlio Calendar":MAILTO:noreply@lakeview.hcss.org
DTSTAMP:20260421T144823Z
END:VEVENT
BEGIN:VEVENT
UID:35343922@lakeview.hcss.org#20251017
SEQUENCE:1
CREATED:20251013T181426Z
LAST-MODIFIED:20251013T181426Z
DTSTART;TZID=US/Central:20251017T100000
DTEND;TZID=US/Central:20251017T100000
SUMMARY:Early Dismissal 
CATEGORIES:School Calendar
URL:https://lakeview.hcss.org/apps/events/35343922/
ORGANIZER;CN="Edlio Calendar":MAILTO:noreply@lakeview.hcss.org
DTSTAMP:20260421T144823Z
END:VEVENT
BEGIN:VEVENT
UID:35343911@lakeview.hcss.org#20251014
SEQUENCE:0
CREATED:20251013T180612Z
LAST-MODIFIED:20251013T180612Z
DTSTART;TZID=US/Central:20251014T130000
DTEND;TZID=US/Central:20251014T150000
SUMMARY:Basketball Vs. Lobelville Home 
LOCATION:Lakeview School
CATEGORIES:School Calendar
URL:https://lakeview.hcss.org/apps/events/35343911/
ORGANIZER;CN="Edlio Calendar":MAILTO:noreply@lakeview.hcss.org
DTSTAMP:20260421T144823Z
END:VEVENT
BEGIN:VEVENT
UID:35343951@lakeview.hcss.org#20251031
SEQUENCE:0
CREATED:20251013T181055Z
LAST-MODIFIED:20251013T181055Z
DTSTART;TZID=US/Central:20251031T130000
DTEND;TZID=US/Central:20251031T130000
SUMMARY:Halloween Parade PreK - 3rd Grade
LOCATION:Lakeview
CATEGORIES:School Calendar
URL:https://lakeview.hcss.org/apps/events/35343951/
ORGANIZER;CN="Edlio Calendar":MAILTO:noreply@lakeview.hcss.org
DTSTAMP:20260421T144823Z
END:VEVENT
BEGIN:VEVENT
UID:36919935@lakeview.hcss.org#20260313
SEQUENCE:0
CREATED:20260309T154023Z
LAST-MODIFIED:20260309T154023Z
DTSTART;TZID=US/Central:20260313T131500
DTEND;TZID=US/Central:20260313T140000
SUMMARY:BETA Club Induction
LOCATION:Lakeview Gym
CATEGORIES:School Calendar
URL:https://lakeview.hcss.org/apps/events/36919935/
ORGANIZER;CN="Edlio Calendar":MAILTO:noreply@lakeview.hcss.org
DTSTAMP:20260421T144823Z
END:VEVENT
BEGIN:VEVENT
UID:35488623@lakeview.hcss.org#20251111
SEQUENCE:0
CREATED:20251104T130043Z
LAST-MODIFIED:20251104T130043Z
DTSTART;TZID=US/Central:20251111T131500
DTEND;TZID=US/Central:20251111T140000
SUMMARY:Veterans Day Program
LOCATION:@ Lakeview
CATEGORIES:School Calendar
URL:https://lakeview.hcss.org/apps/events/35488623/
ORGANIZER;CN="Edlio Calendar":MAILTO:noreply@lakeview.hcss.org
DTSTAMP:20260421T144823Z
END:VEVENT
BEGIN:VEVENT
UID:24061748@lakeview.hcss.org#20250424
SEQUENCE:0
CREATED:20250424T185602Z
LAST-MODIFIED:20250424T185602Z
DTSTART;TZID=US/Central:20250424T150000
DTEND;TZID=US/Central:20250424T160000
RRULE:FREQ=WEEKLY;BYDAY=WE;UNTIL=20250531T045959Z;WKST=SU
SUMMARY:Edlio Event
LOCATION:Cafeteria
CATEGORIES:School Calendar
URL:https://lakeview.hcss.org/apps/events/24061748/
ORGANIZER;CN="Edlio Calendar":MAILTO:noreply@lakeview.hcss.org
DTSTAMP:20260421T144823Z
END:VEVENT
BEGIN:VEVENT
UID:35343941@lakeview.hcss.org#20251023
SEQUENCE:0
CREATED:20251013T180928Z
LAST-MODIFIED:20251013T180928Z
DTSTART;TZID=US/Central:20251023T151500
DTEND;TZID=US/Central:20251023T161500
SUMMARY:Parent Teacher Conference 
LOCATION:Lakeview School
CATEGORIES:School Calendar
URL:https://lakeview.hcss.org/apps/events/35343941/
ORGANIZER;CN="Edlio Calendar":MAILTO:noreply@lakeview.hcss.org
DTSTAMP:20260421T144823Z
END:VEVENT
BEGIN:VEVENT
UID:35915453@lakeview.hcss.org#20260224
SEQUENCE:1
CREATED:20260211T164115Z
LAST-MODIFIED:20260211T164115Z
DTSTART;TZID=US/Central:20260224T151500
DTEND;TZID=US/Central:20260224T181500
SUMMARY:Parent Teacher Conferences
CATEGORIES:School Calendar
URL:https://lakeview.hcss.org/apps/events/35915453/
ORGANIZER;CN="Edlio Calendar":MAILTO:noreply@lakeview.hcss.org
DTSTAMP:20260421T144823Z
END:VEVENT
BEGIN:VEVENT
UID:35488592@lakeview.hcss.org#20251107
SEQUENCE:2
CREATED:20251104T125807Z
LAST-MODIFIED:20251104T125807Z
DTSTART;TZID=US/Central:20251107T160000
DTEND;TZID=US/Central:20251107T200000
SUMMARY:Basketball Vs. Waverly
LOCATION:@ Home
CATEGORIES:School Calendar
URL:https://lakeview.hcss.org/apps/events/35488592/
ORGANIZER;CN="Edlio Calendar":MAILTO:noreply@lakeview.hcss.org
DTSTAMP:20260421T144823Z
END:VEVENT
BEGIN:VEVENT
UID:28972824@lakeview.hcss.org#20250731
SEQUENCE:1
CREATED:20250702T112232Z
LAST-MODIFIED:20250702T112232Z
DTSTART;TZID=US/Central:20250731T170000
DTEND;TZID=US/Central:20250731T170000
SUMMARY:Open House
LOCATION:Lakeview School
CATEGORIES:School Calendar
URL:https://lakeview.hcss.org/apps/events/28972824/
ORGANIZER;CN="Edlio Calendar":MAILTO:noreply@lakeview.hcss.org
DTSTAMP:20260421T144823Z
END:VEVENT
BEGIN:VEVENT
UID:35392891@lakeview.hcss.org#20251021
SEQUENCE:0
CREATED:20251021T164115Z
LAST-MODIFIED:20251021T164115Z
DTSTART;TZID=US/Central:20251021T180000
DTEND;TZID=US/Central:20251021T200000
SUMMARY:Baskebtall Vs. Big Sandy
LOCATION:Lakeview Elementary School
CATEGORIES:School Calendar
DESCRIPTION:<br>\n<a href=' https://lakeview.hcss.org/apps/events/35392891/
 '>Read more</a>
URL:https://lakeview.hcss.org/apps/events/35392891/
ORGANIZER;CN="Edlio Calendar":MAILTO:noreply@lakeview.hcss.org
DTSTAMP:20260421T144823Z
END:VEVENT
BEGIN:VEVENT
UID:35344029@lakeview.hcss.org#20251016
SEQUENCE:0
CREATED:20251013T181544Z
LAST-MODIFIED:20251013T181544Z
DTSTART;TZID=US/Central:20251016T180000
DTEND;TZID=US/Central:20251016T180000
SUMMARY:Basketball
LOCATION:@ Holladay
CATEGORIES:School Calendar
URL:https://lakeview.hcss.org/apps/events/35344029/
ORGANIZER;CN="Edlio Calendar":MAILTO:noreply@lakeview.hcss.org
DTSTAMP:20260421T144823Z
END:VEVENT
BEGIN:VEVENT
UID:35393176@lakeview.hcss.org#20251028
SEQUENCE:0
CREATED:20251021T165753Z
LAST-MODIFIED:20251021T165753Z
DTSTART;TZID=US/Central:20251028T180000
DTEND;TZID=US/Central:20251028T190000
SUMMARY:Basketball
LOCATION:Linden
CATEGORIES:School Calendar
DESCRIPTION:<br>\n<a href=' https://lakeview.hcss.org/apps/events/35393176/
 '>Read more</a>
URL:https://lakeview.hcss.org/apps/events/35393176/
ORGANIZER;CN="Edlio Calendar":MAILTO:noreply@lakeview.hcss.org
DTSTAMP:20260421T144823Z
END:VEVENT
BEGIN:VEVENT
UID:35488630@lakeview.hcss.org#20251117
SEQUENCE:1
CREATED:20251104T130215Z
LAST-MODIFIED:20251104T130215Z
DTSTART;TZID=US/Central:20251117T180000
DTEND;TZID=US/Central:20251117T210000
SUMMARY:Basketball Vs. Big Sandy
LOCATION:@ Big Sandy
CATEGORIES:School Calendar
URL:https://lakeview.hcss.org/apps/events/35488630/
ORGANIZER;CN="Edlio Calendar":MAILTO:noreply@lakeview.hcss.org
DTSTAMP:20260421T144823Z
END:VEVENT
BEGIN:VEVENT
UID:35393896@lakeview.hcss.org#20251030
SEQUENCE:0
CREATED:20251021T182432Z
LAST-MODIFIED:20251021T182432Z
DTSTART;TZID=US/Central:20251030T180000
DTEND;TZID=US/Central:20251030T200000
SUMMARY:Basketball Vs. Frank Hughes
LOCATION:Lakeview Elementary School
CATEGORIES:School Calendar
DESCRIPTION:<br>\n<a href=' https://lakeview.hcss.org/apps/events/35393896/
 '>Read more</a>
URL:https://lakeview.hcss.org/apps/events/35393896/
ORGANIZER;CN="Edlio Calendar":MAILTO:noreply@lakeview.hcss.org
DTSTAMP:20260421T144823Z
END:VEVENT
BEGIN:VEVENT
UID:35488610@lakeview.hcss.org#20251106
SEQUENCE:1
CREATED:20251104T125738Z
LAST-MODIFIED:20251104T125738Z
DTSTART;TZID=US/Central:20251106T180000
DTEND;TZID=US/Central:20251106T210000
SUMMARY:Basketball Vs. Linden 
LOCATION:@ Home
CATEGORIES:School Calendar
URL:https://lakeview.hcss.org/apps/events/35488610/
ORGANIZER;CN="Edlio Calendar":MAILTO:noreply@lakeview.hcss.org
DTSTAMP:20260421T144823Z
END:VEVENT
BEGIN:VEVENT
UID:35488620@lakeview.hcss.org#20251111
SEQUENCE:0
CREATED:20251104T125944Z
LAST-MODIFIED:20251104T125944Z
DTSTART;TZID=US/Central:20251111T180000
DTEND;TZID=US/Central:20251111T210000
SUMMARY:Basketball Vs. Lobelville 
LOCATION:@ Lobelville
CATEGORIES:School Calendar
URL:https://lakeview.hcss.org/apps/events/35488620/
ORGANIZER;CN="Edlio Calendar":MAILTO:noreply@lakeview.hcss.org
DTSTAMP:20260421T144823Z
END:VEVENT
END:VCALENDAR
